BEGIN:VCALENDAR
VERSION:2.0
PRODID:-//Kegelverein &quot;Hansa&quot; Stralsund e.V. - ECPv6.15.20//NONSGML v1.0//EN
CALSCALE:GREGORIAN
METHOD:PUBLISH
X-ORIGINAL-URL:https://kvhansa.de
X-WR-CALDESC:Veranstaltungen für Kegelverein &quot;Hansa&quot; Stralsund e.V.
REFRESH-INTERVAL;VALUE=DURATION:PT1H
X-Robots-Tag:noindex
X-PUBLISHED-TTL:PT1H
BEGIN:VTIMEZONE
TZID:Europe/Berlin
BEGIN:DAYLIGHT
TZOFFSETFROM:+0100
TZOFFSETTO:+0200
TZNAME:CEST
DTSTART:20250330T010000
END:DAYLIGHT
BEGIN:STANDARD
TZOFFSETFROM:+0200
TZOFFSETTO:+0100
TZNAME:CET
DTSTART:20251026T010000
END:STANDARD
BEGIN:DAYLIGHT
TZOFFSETFROM:+0100
TZOFFSETTO:+0200
TZNAME:CEST
DTSTART:20260329T010000
END:DAYLIGHT
BEGIN:STANDARD
TZOFFSETFROM:+0200
TZOFFSETTO:+0100
TZNAME:CET
DTSTART:20261025T010000
END:STANDARD
BEGIN:DAYLIGHT
TZOFFSETFROM:+0100
TZOFFSETTO:+0200
TZNAME:CEST
DTSTART:20270328T010000
END:DAYLIGHT
BEGIN:STANDARD
TZOFFSETFROM:+0200
TZOFFSETTO:+0100
TZNAME:CET
DTSTART:20271031T010000
END:STANDARD
END:VTIMEZONE
BEGIN:VEVENT
DTSTART;TZID=Europe/Berlin:20260315T090000
DTEND;TZID=Europe/Berlin:20260315T170000
DTSTAMP:20260419T140038
CREATED:20250709T070104Z
LAST-MODIFIED:20250709T070105Z
UID:7935-1773565200-1773594000@kvhansa.de
SUMMARY:Landesmeisterschaften Vereinsmannschaften Herren C
DESCRIPTION:
URL:https://kvhansa.de/event/landesmeisterschaften-vereinsmannschaften-herren-c-2/
LOCATION:Bundeskegelbahn Stralsund\, An der Kupfermühle 5c\, Stralsund\, MV\, 18437\, Deutschland
CATEGORIES:Herren C,Landesmeisterschaften,Vereinsmannschaften
END:VEVENT
BEGIN:VEVENT
DTSTART;TZID=Europe/Berlin:20260315T093000
DTEND;TZID=Europe/Berlin:20260315T170000
DTSTAMP:20260419T140038
CREATED:20250709T071511Z
LAST-MODIFIED:20250709T071512Z
UID:7961-1773567000-1773594000@kvhansa.de
SUMMARY:Landesmeisterschaften U18
DESCRIPTION:
URL:https://kvhansa.de/event/landesmeisterschaften-u18/
LOCATION:Bohle und Bowlingcenter Rostock\, Stockholmer Str. 1\, Rostock\, MV\, 18107\, Deutschland
CATEGORIES:Landesmeisterschaften,U18
ATTACH;FMTTYPE=image/jpeg:https://kvhansa.de/wp-content/uploads/2024/07/IMG_0075.jpeg
END:VEVENT
END:VCALENDAR