BEGIN:VCALENDAR
VERSION:2.0
PRODID:-//Kegelverein &quot;Hansa&quot; Stralsund e.V. - ECPv6.15.20//NONSGML v1.0//EN
CALSCALE:GREGORIAN
METHOD:PUBLISH
X-ORIGINAL-URL:https://kvhansa.de
X-WR-CALDESC:Veranstaltungen für Kegelverein &quot;Hansa&quot; Stralsund e.V.
REFRESH-INTERVAL;VALUE=DURATION:PT1H
X-Robots-Tag:noindex
X-PUBLISHED-TTL:PT1H
BEGIN:VTIMEZONE
TZID:Europe/Berlin
BEGIN:DAYLIGHT
TZOFFSETFROM:+0100
TZOFFSETTO:+0200
TZNAME:CEST
DTSTART:20240331T010000
END:DAYLIGHT
BEGIN:STANDARD
TZOFFSETFROM:+0200
TZOFFSETTO:+0100
TZNAME:CET
DTSTART:20241027T010000
END:STANDARD
BEGIN:DAYLIGHT
TZOFFSETFROM:+0100
TZOFFSETTO:+0200
TZNAME:CEST
DTSTART:20250330T010000
END:DAYLIGHT
BEGIN:STANDARD
TZOFFSETFROM:+0200
TZOFFSETTO:+0100
TZNAME:CET
DTSTART:20251026T010000
END:STANDARD
BEGIN:DAYLIGHT
TZOFFSETFROM:+0100
TZOFFSETTO:+0200
TZNAME:CEST
DTSTART:20260329T010000
END:DAYLIGHT
BEGIN:STANDARD
TZOFFSETFROM:+0200
TZOFFSETTO:+0100
TZNAME:CET
DTSTART:20261025T010000
END:STANDARD
END:VTIMEZONE
BEGIN:VEVENT
DTSTART;VALUE=DATE:20251115
DTEND;VALUE=DATE:20251117
DTSTAMP:20260422T181920
CREATED:20250709T072537Z
LAST-MODIFIED:20250709T072537Z
UID:7977-1763164800-1763337599@kvhansa.de
SUMMARY:Deutschland-Pokal U14
DESCRIPTION:
URL:https://kvhansa.de/event/deutschland-pokal-u14/
LOCATION:Kegelsporthalle Holstenhof Bergedorf\, Lohbrügger Landstr. 38\, Hamburg\, HH\, 21031\, Deutschland
CATEGORIES:Deutschlandpokal,U14
ATTACH;FMTTYPE=image/jpeg:https://kvhansa.de/wp-content/uploads/2025/07/cropped-logo_dbkv.jpg
END:VEVENT
BEGIN:VEVENT
DTSTART;TZID=Europe/Berlin:20251116T100000
DTEND;TZID=Europe/Berlin:20251116T170000
DTSTAMP:20260422T181920
CREATED:20250709T045759Z
LAST-MODIFIED:20250709T045759Z
UID:7828-1763287200-1763312400@kvhansa.de
SUMMARY:Damen Landesliga 4. Spieltag
DESCRIPTION:
URL:https://kvhansa.de/event/damen-landesliga-4-spieltag-2/
LOCATION:Kegelbahn Sporthalle „E. Grube“ Neubrandenburg\, Am Augustabad 13\, Neubrandenburg\, MV\, 17033\, Deutschland
CATEGORIES:Damen,Landesliga
ATTACH;FMTTYPE=image/jpeg:https://kvhansa.de/wp-content/uploads/2024/07/IMG_0075.jpeg
END:VEVENT
BEGIN:VEVENT
DTSTART;TZID=Europe/Berlin:20251116T100000
DTEND;TZID=Europe/Berlin:20251116T170000
DTSTAMP:20260422T181920
CREATED:20250709T054935Z
LAST-MODIFIED:20250709T054935Z
UID:7844-1763287200-1763312400@kvhansa.de
SUMMARY:Herren Landesliga 4. Spieltag
DESCRIPTION:
URL:https://kvhansa.de/event/herren-landesliga-4-spieltag/
LOCATION:„Zur Kegelbahn“ Lübow\, Dorfstr. 20\, Lübow\, MV\, 23972\, Deutschland
CATEGORIES:Herren,Landesliga
ATTACH;FMTTYPE=image/jpeg:https://kvhansa.de/wp-content/uploads/2024/07/IMG_0075.jpeg
END:VEVENT
BEGIN:VEVENT
DTSTART;TZID=Europe/Berlin:20251116T100000
DTEND;TZID=Europe/Berlin:20251116T170000
DTSTAMP:20260422T181920
CREATED:20250709T055919Z
LAST-MODIFIED:20250709T055920Z
UID:7860-1763287200-1763312400@kvhansa.de
SUMMARY:Herren Verbandsliga 4. Spieltag
DESCRIPTION:
URL:https://kvhansa.de/event/herren-verbandsliga-4-spieltag-2/
LOCATION:Kegelbahn Tannenrestaurant Demmin\, Sandbergtannen 1\, Demmin\, MV\, 17109\, Deutschland
CATEGORIES:Herren,Verbandsliga
ATTACH;FMTTYPE=image/jpeg:https://kvhansa.de/wp-content/uploads/2024/07/IMG_0075.jpeg
END:VEVENT
BEGIN:VEVENT
DTSTART;TZID=Europe/Berlin:20251116T100000
DTEND;TZID=Europe/Berlin:20251116T170000
DTSTAMP:20260422T181920
CREATED:20250709T062731Z
LAST-MODIFIED:20250709T062731Z
UID:7893-1763287200-1763312400@kvhansa.de
SUMMARY:Senioren Landesliga 4. Spieltag
DESCRIPTION:
URL:https://kvhansa.de/event/senioren-landesliga-4-spieltag/
LOCATION:Hotel „Am Brauhaus“ Waren\, Am Tiefwarensee 1\, Waren\, MV\, 17192\, Deutschland
CATEGORIES:Landesliga,Senioren
ATTACH;FMTTYPE=image/jpeg:https://kvhansa.de/wp-content/uploads/2024/07/IMG_0075.jpeg
END:VEVENT
END:VCALENDAR